BEGIN:VCALENDAR
VERSION:2.0
PRODID: 20201008T075500/11608
CALSCALE:GREGORIAN
METHOD:PUBLISH
BEGIN:VTIMEZONE
TZID:Europe/Prague
BEGIN:STANDARD
END:STANDARD
END:VTIMEZONE
BEGIN:VEVENT
DTSTART:20201008T075500
DTEND:20201008T122500
SUMMARY:Dopravní hřiště 4.B
LOCATION:
DESCRIPTION:Žáci 4.B budou mít teoretickou i praktickou výuku na dopravním  hřišti.
PRIORITY:3
END:VEVENT
END:VCALENDAR
