BEGIN:VCALENDAR
VERSION:2.0
PRODID: 20201009T075500/11610
CALSCALE:GREGORIAN
METHOD:PUBLISH
BEGIN:VTIMEZONE
TZID:Europe/Prague
BEGIN:STANDARD
END:STANDARD
END:VTIMEZONE
BEGIN:VEVENT
DTSTART:20201009T075500
DTEND:20201009T122500
SUMMARY:Dopravní hřiště 4.A
LOCATION:
DESCRIPTION:Žáci 4.A budou mít teoretickou i praktickou výuku na dopravním  hřišti.
PRIORITY:3
END:VEVENT
END:VCALENDAR
