BEGIN:VCALENDAR
VERSION:2.0
PRODID: 20220826T000000/16868
CALSCALE:GREGORIAN
METHOD:PUBLISH
BEGIN:VTIMEZONE
TZID:Europe/Prague
BEGIN:STANDARD
END:STANDARD
END:VTIMEZONE
BEGIN:VEVENT
DTSTART:20220826T000000
DTEND:20220901T080000
SUMMARY:Zahájení školního roku
LOCATION:
DESCRIPTION:Nový školní rok zahájíme ve čtvrtek 1. září 2022
PRIORITY:3
END:VEVENT
END:VCALENDAR
