BEGIN:VCALENDAR
VERSION:2.0
PRODID: 20221201T120000/17472
CALSCALE:GREGORIAN
METHOD:PUBLISH
BEGIN:VTIMEZONE
TZID:Europe/Prague
BEGIN:STANDARD
END:STANDARD
END:VTIMEZONE
BEGIN:VEVENT
DTSTART:20221201T120000
DTEND:20230126T120000
SUMMARY:Bruslení MB
LOCATION:
DESCRIPTION:Každý čtvrtek do 26. 1. 2023.
PRIORITY:3
END:VEVENT
END:VCALENDAR
