BEGIN:VCALENDAR
VERSION:2.0
PRODID: 20221205T120000/17474
CALSCALE:GREGORIAN
METHOD:PUBLISH
BEGIN:VTIMEZONE
TZID:Europe/Prague
BEGIN:STANDARD
END:STANDARD
END:VTIMEZONE
BEGIN:VEVENT
DTSTART:20221205T120000
DTEND:20230130T120000
SUMMARY:Plavecký výcvik 1.A, 1.B, 2.B
LOCATION:
DESCRIPTION:Každé pondělí do 30. 1. 2023.
PRIORITY:3
END:VEVENT
END:VCALENDAR
