BEGIN:VCALENDAR
VERSION:2.0
PRODID: 20230207T120000/17636
CALSCALE:GREGORIAN
METHOD:PUBLISH
BEGIN:VTIMEZONE
TZID:Europe/Prague
BEGIN:STANDARD
END:STANDARD
END:VTIMEZONE
BEGIN:VEVENT
DTSTART:20230207T120000
DTEND:20230209T120000
SUMMARY:Lyžařský výcvik 3.A, 3.B
LOCATION:
DESCRIPTION:Třeťáci budou sjíždět Svinec.
PRIORITY:3
END:VEVENT
END:VCALENDAR
