BEGIN:VCALENDAR
VERSION:2.0
PRODID: 20230303T120000/17650
CALSCALE:GREGORIAN
METHOD:PUBLISH
BEGIN:VTIMEZONE
TZID:Europe/Prague
BEGIN:STANDARD
END:STANDARD
END:VTIMEZONE
BEGIN:VEVENT
DTSTART:20230303T120000
DTEND:20230324T120000
SUMMARY:Branně - záchranářský kurz 5.A, 5.B
LOCATION:
DESCRIPTION:
PRIORITY:3
END:VEVENT
END:VCALENDAR
