BEGIN:VCALENDAR
VERSION:2.0
PRODID: 20230306T120000/17702
CALSCALE:GREGORIAN
METHOD:PUBLISH
BEGIN:VTIMEZONE
TZID:Europe/Prague
BEGIN:STANDARD
END:STANDARD
END:VTIMEZONE
BEGIN:VEVENT
DTSTART:20230306T120000
DTEND:20230320T120000
SUMMARY:Bruslení 2.B
LOCATION:
DESCRIPTION:Děti z 2.B budou chodit na zimní stadion v pondělí.
PRIORITY:3
END:VEVENT
END:VCALENDAR
