BEGIN:VCALENDAR
VERSION:2.0
PRODID: 20231106T120000/19121
CALSCALE:GREGORIAN
METHOD:PUBLISH
BEGIN:VTIMEZONE
TZID:Europe/Prague
BEGIN:STANDARD
END:STANDARD
END:VTIMEZONE
BEGIN:VEVENT
DTSTART:20231106T120000
DTEND:20231120T120000
SUMMARY:Tvořivá dílna 4.B, 5.A
LOCATION:
DESCRIPTION:Třikrát, vždy v pondělí, se děti sejdou a budou tvořit adventní dekorace.
PRIORITY:3
END:VEVENT
END:VCALENDAR
