BEGIN:VCALENDAR
VERSION:2.0
PRODID: 20240327T070000/20288
CALSCALE:GREGORIAN
METHOD:PUBLISH
BEGIN:VTIMEZONE
TZID:Europe/Prague
BEGIN:STANDARD
END:STANDARD
END:VTIMEZONE
BEGIN:VEVENT
DTSTART:20240327T070000
DTEND:20240327T080000
SUMMARY:Ekosoutěž
LOCATION:
DESCRIPTION:Sběr elektroodpadu na školním parkovišti.
PRIORITY:3
END:VEVENT
END:VCALENDAR
