BEGIN:VCALENDAR
VERSION:2.0
PRODID: 20240911T120000/20838
CALSCALE:GREGORIAN
METHOD:PUBLISH
BEGIN:VTIMEZONE
TZID:Europe/Prague
BEGIN:STANDARD
END:STANDARD
END:VTIMEZONE
BEGIN:VEVENT
DTSTART:20240911T120000
DTEND:20240913T120000
SUMMARY:Adaptační pobyt ME, MD, MF
LOCATION:
DESCRIPTION:
PRIORITY:3
END:VEVENT
END:VCALENDAR
