BEGIN:VCALENDAR
VERSION:2.0
PRODID: 20241003T153000/20918
CALSCALE:GREGORIAN
METHOD:PUBLISH
BEGIN:VTIMEZONE
TZID:Europe/Prague
BEGIN:STANDARD
END:STANDARD
END:VTIMEZONE
BEGIN:VEVENT
DTSTART:20241003T153000
DTEND:20241003T163000
SUMMARY:Třídní schůzky 2.A, 2.B
LOCATION:
DESCRIPTION:
PRIORITY:3
END:VEVENT
END:VCALENDAR
