BEGIN:VCALENDAR
VERSION:2.0
PRODID: 20241120T150000/21274
CALSCALE:GREGORIAN
METHOD:PUBLISH
BEGIN:VTIMEZONE
TZID:Europe/Prague
BEGIN:STANDARD
END:STANDARD
END:VTIMEZONE
BEGIN:VEVENT
DTSTART:20241120T150000
DTEND:20241120T173000
SUMMARY:Třídní schůzky 7MG, 8MH, 9MZ
LOCATION:
DESCRIPTION:
PRIORITY:3
END:VEVENT
END:VCALENDAR
