BEGIN:VCALENDAR
VERSION:2.0
PRODID: 20250123T120000/21398
CALSCALE:GREGORIAN
METHOD:PUBLISH
BEGIN:VTIMEZONE
TZID:Europe/Prague
BEGIN:STANDARD
END:STANDARD
END:VTIMEZONE
BEGIN:VEVENT
DTSTART:20250123T120000
DTEND:20250213T120000
SUMMARY:Branně - záchranářský kurz 5.B
LOCATION:
DESCRIPTION:Vždy ve čtvrtek.
PRIORITY:3
END:VEVENT
END:VCALENDAR
