BEGIN:VCALENDAR
VERSION:2.0
PRODID: 20250117T120000/21403
CALSCALE:GREGORIAN
METHOD:PUBLISH
BEGIN:VTIMEZONE
TZID:Europe/Prague
BEGIN:STANDARD
END:STANDARD
END:VTIMEZONE
BEGIN:VEVENT
DTSTART:20250117T120000
DTEND:20250221T120000
SUMMARY:Bruslení MC
LOCATION:
DESCRIPTION:Vždy v pátek.
PRIORITY:3
END:VEVENT
END:VCALENDAR
