BEGIN:VCALENDAR
VERSION:2.0
PRODID: 20250203T120000/21425
CALSCALE:GREGORIAN
METHOD:PUBLISH
BEGIN:VTIMEZONE
TZID:Europe/Prague
BEGIN:STANDARD
END:STANDARD
END:VTIMEZONE
BEGIN:VEVENT
DTSTART:20250203T120000
DTEND:20250207T120000
SUMMARY:Lyžařský výcvik 7.M +8.M
LOCATION:
DESCRIPTION:
PRIORITY:3
END:VEVENT
END:VCALENDAR
