BEGIN:VCALENDAR
VERSION:2.0
PRODID: 20250210T120000/21427
CALSCALE:GREGORIAN
METHOD:PUBLISH
BEGIN:VTIMEZONE
TZID:Europe/Prague
BEGIN:STANDARD
END:STANDARD
END:VTIMEZONE
BEGIN:VEVENT
DTSTART:20250210T120000
DTEND:20250414T120000
SUMMARY:Plavecký výcvik 4.A
LOCATION:
DESCRIPTION:Vždy v pondělí.
PRIORITY:3
END:VEVENT
END:VCALENDAR
