BEGIN:VCALENDAR
VERSION:2.0
PRODID: 20250328T120000/21810
CALSCALE:GREGORIAN
METHOD:PUBLISH
BEGIN:VTIMEZONE
TZID:Europe/Prague
BEGIN:STANDARD
END:STANDARD
END:VTIMEZONE
BEGIN:VEVENT
DTSTART:20250328T120000
DTEND:20250401T120000
SUMMARY:Zájezd do Anglie pro žáky 2. stupně
LOCATION:
DESCRIPTION:Přihlášení žáci.
PRIORITY:3
END:VEVENT
END:VCALENDAR
