BEGIN:VCALENDAR
VERSION:2.0
PRODID: 20250424T143000/23142
CALSCALE:GREGORIAN
METHOD:PUBLISH
BEGIN:VTIMEZONE
TZID:Europe/Prague
BEGIN:STANDARD
END:STANDARD
END:VTIMEZONE
BEGIN:VEVENT
DTSTART:20250424T143000
DTEND:20250424T163000
SUMMARY:Klasifikační pohovory 1. stupeň
LOCATION:
DESCRIPTION:14:30 - 16:30 hod.
PRIORITY:3
END:VEVENT
END:VCALENDAR
