BEGIN:VCALENDAR
VERSION:2.0
PRODID: 20250611T120000/23320
CALSCALE:GREGORIAN
METHOD:PUBLISH
BEGIN:VTIMEZONE
TZID:Europe/Prague
BEGIN:STANDARD
END:STANDARD
END:VTIMEZONE
BEGIN:VEVENT
DTSTART:20250611T120000
DTEND:20250613T120000
SUMMARY:Školní výlet 9.C
LOCATION:
DESCRIPTION:
PRIORITY:3
END:VEVENT
END:VCALENDAR
