BEGIN:VCALENDAR
VERSION:2.0
PRODID: 20250902T120000/23424
CALSCALE:GREGORIAN
METHOD:PUBLISH
BEGIN:VTIMEZONE
TZID:Europe/Prague
BEGIN:STANDARD
END:STANDARD
END:VTIMEZONE
BEGIN:VEVENT
DTSTART:20250902T120000
DTEND:20250903T120000
SUMMARY:Adaptační kurz 7.M
LOCATION:
DESCRIPTION:
PRIORITY:3
END:VEVENT
END:VCALENDAR
