BEGIN:VCALENDAR
VERSION:2.0
PRODID: 20250904T120000/23426
CALSCALE:GREGORIAN
METHOD:PUBLISH
BEGIN:VTIMEZONE
TZID:Europe/Prague
BEGIN:STANDARD
END:STANDARD
END:VTIMEZONE
BEGIN:VEVENT
DTSTART:20250904T120000
DTEND:20250905T120000
SUMMARY:Adaptační kurz 7.M, 8.M
LOCATION:
DESCRIPTION:
PRIORITY:3
END:VEVENT
END:VCALENDAR
